Workbook

Sheet Для малюків
A1: Бланк замовлення ( група для малюків) | G1: Оптові ціни є ОРІЄНТОВНИМИ
A2: Потрібно вказатикількістьнеобхідних виробів. Поля сірого кольору вказують, що виріб в даних кольорах чи розмірах не виробляється або відсутній.
A3: Контактні дані : ПІБ | J3: Всього замовлено на суму
A4: Номер телефону | J4: =M882 -> 0
A5: Місце доставки
A6: Найменування продукції | B6: тканина | C6: розмір | D6: ціна | E6: Кількість | L6: Всього | M6: Сума | N6: Примітка
A7: БД1 Боді довгий рукав інтерлок, БД1 | B7: інтерлок | E7: різні | F7: білий | G7: голуб. | H7: рож. | I7: жовтий | J7: салат. | K7: молочн | L7: =L8+L9+L10+L11+L12 -> 0
C8: 20 | D8: 116 | L8: =J8+I8+H8+G8+F8+E8+K8 -> 0 | M8: =L8*D8 -> 0
C9: 22 | D9: 116 | L9: =J9+I9+H9+G9+F9+E9+K9 -> 0 | M9: =L9*D9 -> 0
C10: 24 | D10: 116 | L10: =J10+I10+H10+G10+F10+E10+K10 -> 0 | M10: =L10*D10 -> 0
C11: 26 | D11: 132 | L11: =J11+I11+H11+G11+F11+E11+K11 -> 0 | M11: =L11*D11 -> 0
C12: 28 | D12: 132 | L12: =J12+I12+H12+G12+F12+E12+K12 -> 0 | M12: =L12*D12 -> 0
A14: 3-3. Боді малюнок інт П, БД47 | B14: інтерлок | D14: 0 | E14: різні | F14: дівч | G14: хлопч | L14: =L15+L16+L17+L18+L19 -> 0
C15: 20 | D15: 118 | L15: =J15+I15+H15+G15+F15+E15 -> 0 | M15: =L15*D15 -> 0
C16: 22 | D16: 118 | L16: =J16+I16+H16+G16+F16+E16 -> 0 | M16: =L16*D16 -> 0
C17: 24 | D17: 118 | L17: =J17+I17+H17+G17+F17+E17 -> 0 | M17: =L17*D17 -> 0
C18: 26 | D18: 135 | L18: =J18+I18+H18+G18+F18+E18 -> 0 | M18: =L18*D18 -> 0
C19: 28 | D19: 135 | L19: =J19+I19+H19+G19+F19+E19 -> 0 | M19: =L19*D19 -> 0
A20: 3-1. Боді вушка аплікація, БД9 | B20: інтерлок | D20: 0 | E20: рож. | F20: голуб. | G20: оранж | H20: бірюза | I20: лисичка | J20: синій | K20: вишневий | L20: =L21+L22+L23+L24+L25 -> 0
C21: 20 | D21: 116 | L21: =J21+I21+H21+G21+F21+E21+K21 -> 0 | M21: =L21*D21 -> 0
C22: 22 | D22: 116 | L22: =J22+I22+H22+G22+F22+E22+K22 -> 0 | M22: =L22*D22 -> 0
C23: 24 | D23: 116 | L23: =J23+I23+H23+G23+F23+E23+K23 -> 0 | M23: =L23*D23 -> 0
C24: 26 | D24: 132 | L24: =J24+I24+H24+G24+F24+E24+K24 -> 0 | M24: =L24*D24 -> 0
C25: 28 | D25: 132 | L25: =J25+I25+H25+G25+F25+E25+K25 -> 0 | M25: =L25*D25 -> 0
A27: 3-1. Боді вел. Вишивка або аплікація | B27: інтерлок | D27: 0 | E27: Їжак | F27: їжак | L27: =L28+L29+L30+L31+L32 -> 0
C28: 20 | D28: 106 | L28: =J28+I28+H28+G28+F28+E28+K28 -> 0 | M28: =L28*D28 -> 0
C29: 22 | D29: 106 | L29: =J29+I29+H29+G29+F29+E29+K29 -> 0 | M29: =L29*D29 -> 0
C30: 24 | D30: 106 | L30: =J30+I30+H30+G30+F30+E30+K30 -> 0 | M30: =L30*D30 -> 0
C31: 26 | D31: 125 | L31: =J31+I31+H31+G31+F31+E31+K31 -> 0 | M31: =L31*D31 -> 0
C32: 28 | D32: 125 | L32: =J32+I32+H32+G32+F32+E32+K32 -> 0 | M32: =L32*D32 -> 0
D33: 0
A34: 3-1. Боді д/р стр.кулір, БД22 | B34: стрейч кулір | D34: 0 | E34: різні | F34: дівч | G34: хлопч | L34: =L35+L36+L37+L38+L39 -> 0
C35: 20 | D35: 116 | L35: =J35+I35+H35+G35+F35+E35+K35 -> 0 | M35: =L35*D35 -> 0
C36: 22 | D36: 116 | L36: =J36+I36+H36+G36+F36+E36+K36 -> 0 | M36: =L36*D36 -> 0
C37: 24 | D37: 116 | L37: =J37+I37+H37+G37+F37+E37+K37 -> 0 | M37: =L37*D37 -> 0
C38: 26 | D38: 132 | L38: =J38+I38+H38+G38+F38+E38+K38 -> 0 | M38: =L38*D38 -> 0
C39: 28 | D39: 132 | L39: =J39+I39+H39+G39+F39+E39+K39 -> 0 | M39: =L39*D39 -> 0
A41: 3-3. Боді рібана стійка, БД46 | B41: рібана | D41: 0 | E41: різні | F41: дівч | G41: хлопч | L41: =L42+L43+L44+L45+L46 -> 0
C42: 20 | D42: 120 | L42: =J42+I42+H42+G42+F42+E42 -> 0 | M42: =L42*D42 -> 0
C43: 22 | D43: 120 | L43: =J43+I43+H43+G43+F43+E43 -> 0 | M43: =L43*D43 -> 0
...

Sheet Для дітей від 1 до 12 р.
A1: Бланк замовлення ( для дітей від 1 року) | G1: Оптові ціни є ОРІЄНТОВНИМИ
A2: Потрібно вказатикількістьнеобхідних виробів. Поля сірого кольору вказують, що виріб в даних кольорах чи розмірах не виробляється або відсутній.
A3: Контактні дані : ПІБ | J3: Всього замовлено на суму
A4: Номер телефону | J4: =M679 -> 0
A5: Місце доставки
A6: Найменування продукції | B6: тканина | C6: розмір | D6: ціна | E6: Кількість | L6: Всього | M6: Сума | N6: Примітка
A7: 1. Гольф дитячий інт., ГФ1 | B7: інтерлок | E7: різні | F7: білий | G7: голуб. | H7: рож. | I7: жовтий | J7: салат. | K7: молочн | L7: =L8+L9+L10+L11+L12+L13+L14 -> 0
C8: 24 | D8: 105 | L8: =E8+F8+G8+H8+I8+J8+K8 -> 0 | M8: =L8*D8 -> 0
C9: 26 | D9: 105 | L9: =E9+F9+G9+H9+I9+J9+K9 -> 0 | M9: =L9*D9 -> 0
C10: 28 | D10: 105 | L10: =E10+F10+G10+H10+I10+J10+K10 -> 0 | M10: =L10*D10 -> 0
C11: 30 | D11: 122 | L11: =E11+F11+G11+H11+I11+J11+K11 -> 0 | M11: =L11*D11 -> 0
C12: 32 | D12: 122 | L12: =E12+F12+G12+H12+I12+J12+K12 -> 0 | M12: =L12*D12 -> 0
C13: 34 | D13: 138 | L13: =E13+F13+G13+H13+I13+J13+K13 -> 0 | M13: =L13*D13 -> 0
C14: 36 | D14: 155 | L14: =E14+F14+G14+H14+I14+J14+K14 -> 0 | M14: =L14*D14 -> 0
A15: 1. Гольф дитячий Актінт., ГФ8 | B15: Актінт | D15: 0 | E15: різні | F15: дівч | G15: хлопч | H15: Т.Рож | I15: оранж | J15: синій | K15: Вишнев | L15: =L16+L17+L18+L19+L20+L21+#REF!+L22 -> #REF!
C16: 24 | D16: 105 | L16: =E16+F16+G16+H16+I16+J16+K16 -> 0 | M16: =L16*D16 -> 0
C17: 26 | D17: 105 | L17: =E17+F17+G17+H17+I17+J17+K17 -> 0 | M17: =L17*D17 -> 0
C18: 28 | D18: 105 | L18: =E18+F18+G18+H18+I18+J18+K18 -> 0 | M18: =L18*D18 -> 0
C19: 30 | D19: 122 | L19: =E19+F19+G19+H19+I19+J19+K19 -> 0 | M19: =L19*D19 -> 0
C20: 32 | D20: 122 | L20: =E20+F20+G20+H20+I20+J20+K20 -> 0 | M20: =L20*D20 -> 0
C21: 34 | D21: 138 | L21: =E21+F21+G21+H21+I21+J21+K21 -> 0 | M21: =L21*D21 -> 0
C22: 36 | D22: 155 | L22: =E22+F22+G22+H22+I22+J22+K22 -> 0 | M22: =L22*D22 -> 0
A23: 1. Гольф дівч.крошетка, ГФ2 | B23: інтерлок | D23: 0 | E23: різні | F23: білий | G23: рож. | H23: жовтий | L23: =L24+L25+L26+L27+L28+L29+#REF! -> #REF!
C24: 26 | D24: 111 | L24: =E24+F24+G24+H24+I24+J24+K24 -> 0 | M24: =L24*D24 -> 0
C25: 28 | D25: 111 | L25: =E25+F25+G25+H25+I25+J25+K25 -> 0 | M25: =L25*D25 -> 0
C26: 30 | D26: 128 | L26: =E26+F26+G26+H26+I26+J26+K26 -> 0 | M26: =L26*D26 -> 0
C27: 32 | D27: 128 | L27: =E27+F27+G27+H27+I27+J27+K27 -> 0 | M27: =L27*D27 -> 0
C28: 34 | D28: 144 | L28: =E28+F28+G28+H28+I28+J28+K28 -> 0 | M28: =L28*D28 -> 0
C29: 36 | D29: 161 | L29: =E29+F29+G29+H29+I29+J29+K29 -> 0 | M29: =L29*D29 -> 0
C30: 34 | D30: 138 | L30: =E30+F30+G30+H30+I30+J30+K30 -> 0 | M30: =L30*D30 -> 0
C31: 36 | D31: 155 | L31: =E31+F31+G31+H31+I31+J31+K31 -> 0 | M31: =L31*D31 -> 0
A32: 2. Гольф інт. з аплік | B32: інтерлок | D32: 0 | E32: хлопчик | L32: =L33+L34+L35+L36+L37+L38+#REF! -> #REF!
C33: 26 | D33: 165 | L33: =E33+F33+G33+H33+I33+J33+K33 -> 0 | M33: =L33*D33 -> 0
C34: 28 | D34: 165 | L34: =E34+F34+G34+H34+I34+J34+K34 -> 0 | M34: =L34*D34 -> 0
C35: 30 | D35: 182 | L35: =E35+F35+G35+H35+I35+J35+K35 -> 0 | M35: =L35*D35 -> 0
C36: 32 | D36: 182 | L36: =E36+F36+G36+H36+I36+J36+K36 -> 0 | M36: =L36*D36 -> 0
C37: 34 | D37: 198 | L37: =E37+F37+G37+H37+I37+J37+K37 -> 0 | M37: =L37*D37 -> 0
C38: 36 | D38: 215 | L38: =E38+F38+G38+H38+I38+J38+K38 -> 0 | M38: =L38*D38 -> 0
A39: 2. Гольф рібана, ГФ12 | B39: рібана | D39: 0 | E39: різні | F39: сірий | G39: білий | H39: голубий | I39: синій | J39: рожев | K39: гірчи | L39: =L40+L41+L42+L43+L44+L45+#REF!+L46 -> #REF!
C40: 26 | D40: 125 | L40: =E40+F40+G40+H40+I40+J40+K40 -> 0 | M40: =L40*D40 -> 0
...

Sheet Для дорослих
A1: Бланк замовлення (для дорослих) | G1: ЦІНИ ОРІЄНТОВНІ
A2: Потрібно вказати кількість необхідних виробів. Поля сірого кольору вказують, що виріб в даних кольорах чи розмірах не виробляється або відсутній.
A3: Контактні дані : ПІБ | J3: Всього замовлено на суму
A4: Номер телефону | J4: =L629 -> 0
A5: Місце доставки
A6: Найменування продукції | B6: тканина | C6: розмір | D6: ціна | E6: Кількість | K6: Всього | L6: Сума | M6: Примітка
A7: 1.Майка чоловіча МК1 | B7: кулір | E7: біла | K7: =K8+K9+K10+K11+K12+K13+K14+K15 -> 0
C8: 44 | D8: 110 | K8: =J8+I8+H8+G8+F8+E8 -> 0 | L8: =K8*D8 -> 0
C9: 46 | D9: 110 | K9: =J9+I9+H9+G9+F9+E9 -> 0 | L9: =K9*D9 -> 0
C10: 48 | D10: 110 | K10: =J10+I10+H10+G10+F10+E10 -> 0 | L10: =K10*D10 -> 0
C11: 50 | D11: 110 | K11: =J11+I11+H11+G11+F11+E11 -> 0 | L11: =K11*D11 -> 0
C12: 52 | D12: 125 | K12: =J12+I12+H12+G12+F12+E12 -> 0 | L12: =K12*D12 -> 0
C13: 54 | D13: 125 | K13: =J13+I13+H13+G13+F13+E13 -> 0 | L13: =K13*D13 -> 0
C14: 56 | D14: 140 | K14: =J14+I14+H14+G14+F14+E14 -> 0 | L14: =K14*D14 -> 0
C15: 60 | D15: 155 | K15: =J15+I15+H15+G15+F15+E15 -> 0 | L15: =K15*D15 -> 0
A16: 1. Майка чол. Кольорова МК4 | B16: акт.кулір | E16: різні | F16: чорна | G16: т.синя | H16: сіра | I16: хакі | K16: =K17+K18+K19+K20+K21+K22+K24 -> 0
C17: 44 | D17: 115 | K17: =J17+I17+H17+G17+F17+E17 -> 0 | L17: =K17*D17 -> 0
C18: 46 | D18: 115 | K18: =J18+I18+H18+G18+F18+E18 -> 0 | L18: =K18*D18 -> 0
C19: 48 | D19: 115 | K19: =J19+I19+H19+G19+F19+E19 -> 0 | L19: =K19*D19 -> 0
C20: 50 | D20: 115 | K20: =J20+I20+H20+G20+F20+E20 -> 0 | L20: =K20*D20 -> 0
C21: 52 | D21: 130 | K21: =J21+I21+H21+G21+F21+E21 -> 0 | L21: =K21*D21 -> 0
C22: 54 | D22: 130 | K22: =J22+I22+H22+G22+F22+E22 -> 0 | L22: =K22*D22 -> 0
C23: 56 | D23: 140 | K23: =J23+I23+H23+G23+F23+E23 -> 0 | L23: =K23*D23 -> 0
C24: 60 | D24: 155 | K24: =J24+I24+H24+G24+F24+E24 -> 0 | L24: =K24*D24 -> 0
A25: 2. Джемпер чол ДЖ1, ДЖ2 | B25: кулір | E25: білий | F25: чорний | K25: =K26+K27+K28+K29+K30+K31+K32 -> 0
C26: 44 | D26: 190 | K26: =J26+I26+H26+G26+F26+E26 -> 0 | L26: =K26*D26 -> 0
C27: 46 | D27: 190 | K27: =J27+I27+H27+G27+F27+E27 -> 0 | L27: =K27*D27 -> 0
C28: 48 | D28: 190 | K28: =J28+I28+H28+G28+F28+E28 -> 0 | L28: =K28*D28 -> 0
C29: 50 | D29: 190 | K29: =J29+I29+H29+G29+F29+E29 -> 0 | L29: =K29*D29 -> 0
C30: 52 | D30: 210 | K30: =J30+I30+H30+G30+F30+E30 -> 0 | L30: =K30*D30 -> 0
C31: 54 | D31: 210 | K31: =J31+I31+H31+G31+F31+E31 -> 0 | L31: =K31*D31 -> 0
C32: 56 | D32: 235 | K32: =J32+I32+H32+G32+F32+E32 -> 0
A33: 2. Джемпер чол однотон ДЖ4, ДЖ3 | B33: кулір | E33: різні | F33: хакі | G33: коричн | H33: зел | I33: синій | K33: =K34+K35+K36+K37+K38+K39+K40 -> 0
B34: стр.кулір | C34: 44 | D34: 190 | K34: =J34+I34+H34+G34+F34+E34 -> 0 | L34: =K34*D34 -> 0
C35: 46 | D35: 190 | K35: =J35+I35+H35+G35+F35+E35 -> 0 | L35: =K35*D35 -> 0
C36: 48 | D36: 190 | K36: =J36+I36+H36+G36+F36+E36 -> 0 | L36: =K36*D36 -> 0
C37: 50 | D37: 190 | K37: =J37+I37+H37+G37+F37+E37 -> 0 | L37: =K37*D37 -> 0
C38: 52 | D38: 210 | K38: =J38+I38+H38+G38+F38+E38 -> 0 | L38: =K38*D38 -> 0
C39: 54 | D39: 210 | K39: =J39+I39+H39+G39+F39+E39 -> 0 | L39: =K39*D39 -> 0
C40: 56 | D40: 235 | K40: =J40+I40+H40+G40+F40+E40 -> 0
...

Sheet Вишиванки
A1: Бланк замовлення ( ВИШИВАНКИ)
A2: Потрібно вказатикількістьнеобхідних виробів. Поля сірого кольору вказують, що виріб в даних кольорах чи розмірах не виробляється або відсутній.
A3: Контактні дані : ПІБ | J3: Всього замовлено на суму
A4: Номер телефону | J4: =L170 -> 0
A5: Місце доставки
A6: Товари з категорії Вишиванки та Хрестильний одяг можна обирати через кошик на сайті. Якщо замовлення відповідатиме критеріям для опту (сума та однотипний товар)- ми його перерахуємо на оптові ціни
A7: Найменування продукції | B7: тканина | C7: розмір | D7: ціна | E7: Кількість | K7: Всього | L7: Сума | M7: Примітка
A8: 1. Вишиванка довг.рук ВД1 | B8: інтерлок | E8: дівч. | F8: хлопч. | G8: дівч. Черв. | H8: дівч. Голуб | I8: хлопч Синя | J8: хлопч Черв.
C9: 24 | D9: 150 | K9: =E9+F9+G9+H9+I9+J9 -> 0 | L9: =K9*D9 -> 0
C10: 26 | D10: 150 | K10: =E10+F10+G10+H10+I10+J10 -> 0 | L10: =K10*D10 -> 0
C11: 28 | D11: 150 | K11: =E11+F11+G11+H11+I11+J11 -> 0 | L11: =K11*D11 -> 0
C12: 30 | D12: 165 | K12: =E12+F12+G12+H12+I12+J12 -> 0 | L12: =K12*D12 -> 0
C13: 32 | D13: 165 | K13: =E13+F13+G13+H13+I13+J13 -> 0 | L13: =K13*D13 -> 0
C14: 34 | D14: 175 | K14: =E14+F14+G14+H14+I14+J14 -> 0 | L14: =K14*D14 -> 0
C15: 36 | D15: 190 | K15: =E15+F15+G15+H15+I15+J15 -> 0 | L15: =K15*D15 -> 0
A16: 2. Вишиванка коротк.рук ВД2 | B16: інтерлок | D16: 0 | E16: дівч. | F16: хлопч. | G16: дівч. Черв. | H16: дівч. Голуб | I16: хлопч Синя | J16: хлопч Черв.
C17: 24 | D17: 142 | K17: =E17+F17+G17+H17+I17+J17 -> 0 | L17: =K17*D17 -> 0
C18: 26 | D18: 142 | K18: =E18+F18+G18+H18+I18+J18 -> 0 | L18: =K18*D18 -> 0
C19: 28 | D19: 142 | K19: =E19+F19+G19+H19+I19+J19 -> 0 | L19: =K19*D19 -> 0
C20: 30 | D20: 157 | K20: =E20+F20+G20+H20+I20+J20 -> 0 | L20: =K20*D20 -> 0
C21: 32 | D21: 157 | K21: =E21+F21+G21+H21+I21+J21 -> 0 | L21: =K21*D21 -> 0
C22: 34 | D22: 167 | K22: =E22+F22+G22+H22+I22+J22 -> 0 | L22: =K22*D22 -> 0
C23: 36 | D23: 182 | K23: =E23+F23+G23+H23+I23+J23 -> 0 | L23: =K23*D23 -> 0
A24: 4.Вишиванка дівч.3/4р. ВД4 | B24: стр.кулір | D24: 0 | E24: оранж | F24: червона | G24: синя | H24: біла
C25: 28 | D25: 212 | K25: =E25+F25+G25+H25+I25+J25 -> 0 | L25: =K25*D25 -> 0
C26: 30 | D26: 231 | K26: =E26+F26+G26+H26+I26+J26 -> 0 | L26: =K26*D26 -> 0
C27: 32 | D27: 231 | K27: =E27+F27+G27+H27+I27+J27 -> 0 | L27: =K27*D27 -> 0
C28: 34 | D28: 252 | K28: =E28+F28+G28+H28+I28+J28 -> 0 | L28: =K28*D28 -> 0
C29: 36 | D29: 265 | K29: =E29+F29+G29+H29+I29+J29 -> 0 | L29: =K29*D29 -> 0
C30: 38 | D30: 265 | K30: =E30+F30+G30+H30+I30+J30 -> 0 | L30: =K30*D30 -> 0
C31: 40 | D31: 291
A32: 5-1.Вишиванка хлопч. к/р стійка | B32: стрейч кулір | D32: 0 | E32: чорна | F32: синя | G32: біла | H32: сіра
C33: 30 | D33: 199 | K33: =E33+F33+G33+H33+I33+J33 -> 0 | L33: =K33*D33 -> 0
C34: 32 | D34: 199 | K34: =E34+F34+G34+H34+I34+J34 -> 0 | L34: =K34*D34 -> 0
C35: 34 | D35: 219 | K35: =E35+F35+G35+H35+I35+J35 -> 0 | L35: =K35*D35 -> 0
C36: 36 | D36: 238 | K36: =E36+F36+G36+H36+I36+J36 -> 0 | L36: =K36*D36 -> 0
C37: 38 | D37: 238 | K37: =E37+F37+G37+H37+I37+J37 -> 0 | L37: =K37*D37 -> 0
C38: 40 | D38: 265 | K38: =E38+F38+G38+H38+I38+J38 -> 0 | L38: =K38*D38 -> 0
A39: 5-2.Вишиванка хлопч. д/р стійка | B39: стр.кулір | D39: 0 | E39: синя | F39: сіра
C40: 28 | D40: 185 | K40: =E40+F40+G40+H40+I40+J40 -> 0 | L40: =K40*D40 -> 0
...
