Workbook

Sheet Для малюків
A1: Бланк замовлення ( група для малюків) | G1: Оптові ціни є ОРІЄНТОВНИМИ
A2: Потрібно вказатикількістьнеобхідних виробів. Поля сірого кольору вказують, що виріб в даних кольорах чи розмірах не виробляється або відсутній.
A3: Контактні дані : ПІБ | J3: Всього замовлено на суму
A4: Номер телефону | J4: =M882 -> 0
A5: Місце доставки
A6: Найменування продукції | B6: тканина | C6: розмір | D6: ціна | E6: Кількість | L6: Всього | M6: Сума | N6: Примітка
A7: БД1 Боді довгий рукав інтерлок, БД1 | B7: інтерлок | E7: різні | F7: білий | G7: голуб. | H7: рож. | I7: жовтий | J7: салат. | K7: молочн | L7: =L8+L9+L10+L11+L12 -> 0
C8: 20 | D8: 116 | L8: =J8+I8+H8+G8+F8+E8+K8 -> 0 | M8: =L8*D8 -> 0
C9: 22 | D9: 116 | L9: =J9+I9+H9+G9+F9+E9+K9 -> 0 | M9: =L9*D9 -> 0
C10: 24 | D10: 116 | L10: =J10+I10+H10+G10+F10+E10+K10 -> 0 | M10: =L10*D10 -> 0
C11: 26 | D11: 132 | L11: =J11+I11+H11+G11+F11+E11+K11 -> 0 | M11: =L11*D11 -> 0
C12: 28 | D12: 132 | L12: =J12+I12+H12+G12+F12+E12+K12 -> 0 | M12: =L12*D12 -> 0
A14: 3-3. Боді малюнок інт П, БД47 | B14: інтерлок | D14: 0 | E14: різні | F14: дівч | G14: хлопч | L14: =L15+L16+L17+L18+L19 -> 0
C15: 20 | D15: 118 | L15: =J15+I15+H15+G15+F15+E15 -> 0 | M15: =L15*D15 -> 0
C16: 22 | D16: 118 | L16: =J16+I16+H16+G16+F16+E16 -> 0 | M16: =L16*D16 -> 0
C17: 24 | D17: 118 | L17: =J17+I17+H17+G17+F17+E17 -> 0 | M17: =L17*D17 -> 0
C18: 26 | D18: 135 | L18: =J18+I18+H18+G18+F18+E18 -> 0 | M18: =L18*D18 -> 0
C19: 28 | D19: 135 | L19: =J19+I19+H19+G19+F19+E19 -> 0 | M19: =L19*D19 -> 0
A20: 3-1. Боді вушка аплікація, БД9 | B20: інтерлок | D20: 0 | E20: рож. | F20: голуб. | G20: оранж | H20: бірюза | I20: лисичка | J20: синій | K20: вишневий | L20: =L21+L22+L23+L24+L25 -> 0
C21: 20 | D21: 116 | L21: =J21+I21+H21+G21+F21+E21+K21 -> 0 | M21: =L21*D21 -> 0
C22: 22 | D22: 116 | L22: =J22+I22+H22+G22+F22+E22+K22 -> 0 | M22: =L22*D22 -> 0
C23: 24 | D23: 116 | L23: =J23+I23+H23+G23+F23+E23+K23 -> 0 | M23: =L23*D23 -> 0
C24: 26 | D24: 132 | L24: =J24+I24+H24+G24+F24+E24+K24 -> 0 | M24: =L24*D24 -> 0
C25: 28 | D25: 132 | L25: =J25+I25+H25+G25+F25+E25+K25 -> 0 | M25: =L25*D25 -> 0
A27: 3-1. Боді вел. Вишивка або аплікація | B27: інтерлок | D27: 0 | E27: Їжак | F27: їжак | L27: =L28+L29+L30+L31+L32 -> 0
C28: 20 | D28: 106 | L28: =J28+I28+H28+G28+F28+E28+K28 -> 0 | M28: =L28*D28 -> 0
C29: 22 | D29: 106 | L29: =J29+I29+H29+G29+F29+E29+K29 -> 0 | M29: =L29*D29 -> 0
C30: 24 | D30: 106 | L30: =J30+I30+H30+G30+F30+E30+K30 -> 0 | M30: =L30*D30 -> 0
C31: 26 | D31: 125 | L31: =J31+I31+H31+G31+F31+E31+K31 -> 0 | M31: =L31*D31 -> 0
C32: 28 | D32: 125 | L32: =J32+I32+H32+G32+F32+E32+K32 -> 0 | M32: =L32*D32 -> 0
D33: 0
A34: 3-1. Боді д/р стр.кулір, БД22 | B34: стрейч кулір | D34: 0 | E34: різні | F34: дівч | G34: хлопч | L34: =L35+L36+L37+L38+L39 -> 0
C35: 20 | D35: 116 | L35: =J35+I35+H35+G35+F35+E35+K35 -> 0 | M35: =L35*D35 -> 0
C36: 22 | D36: 116 | L36: =J36+I36+H36+G36+F36+E36+K36 -> 0 | M36: =L36*D36 -> 0
C37: 24 | D37: 116 | L37: =J37+I37+H37+G37+F37+E37+K37 -> 0 | M37: =L37*D37 -> 0
C38: 26 | D38: 132 | L38: =J38+I38+H38+G38+F38+E38+K38 -> 0 | M38: =L38*D38 -> 0
C39: 28 | D39: 132 | L39: =J39+I39+H39+G39+F39+E39+K39 -> 0 | M39: =L39*D39 -> 0
A41: 3-3. Боді рібана стійка, БД46 | B41: рібана | D41: 0 | E41: різні | F41: дівч | G41: хлопч | L41: =L42+L43+L44+L45+L46 -> 0
C42: 20 | D42: 120 | L42: =J42+I42+H42+G42+F42+E42 -> 0 | M42: =L42*D42 -> 0
C43: 22 | D43: 120 | L43: =J43+I43+H43+G43+F43+E43 -> 0 | M43: =L43*D43 -> 0
C44: 24 | D44: 120 | L44: =J44+I44+H44+G44+F44+E44 -> 0 | M44: =L44*D44 -> 0
C45: 26 | D45: 145 | L45: =J45+I45+H45+G45+F45+E45 -> 0 | M45: =L45*D45 -> 0
C46: 28 | D46: 145 | L46: =J46+I46+H46+G46+F46+E46 -> 0 | M46: =L46*D46 -> 0
A49: 3-3. Боді байковий, БД17 | B49: футер | D49: 0 | E49: різні | F49: дівч | G49: хлопч | L49: =L50+L51+L52+L53+L54 -> 0
C50: 20 | D50: 120 | L50: =J50+I50+H50+G50+F50+E50 -> 0 | M50: =L50*D50 -> 0
C51: 22 | D51: 120 | L51: =J51+I51+H51+G51+F51+E51 -> 0 | M51: =L51*D51 -> 0
C52: 24 | D52: 120 | L52: =J52+I52+H52+G52+F52+E52 -> 0 | M52: =L52*D52 -> 0
C53: 26 | D53: 145 | L53: =J53+I53+H53+G53+F53+E53 -> 0 | M53: =L53*D53 -> 0
C54: 28 | D54: 145 | L54: =J54+I54+H54+G54+F54+E54 -> 0 | M54: =L54*D54 -> 0
D55: 0
A56: 3-4. Боді флісовий, БД36 | B56: рібана | D56: 0 | E56: дівч | F56: хлопчик | L56: =L57+L58+L59+L60+L61 -> 0
C57: 20 | D57: 120 | L57: =J57+I57+H57+G57+F57+E57 -> 0 | M57: =L57*D57 -> 0
C58: 22 | D58: 120 | L58: =J58+I58+H58+G58+F58+E58 -> 0 | M58: =L58*D58 -> 0
C59: 24 | D59: 120 | L59: =J59+I59+H59+G59+F59+E59 -> 0 | M59: =L59*D59 -> 0
C60: 26 | D60: 145 | L60: =J60+I60+H60+G60+F60+E60 -> 0 | M60: =L60*D60 -> 0
C61: 28 | D61: 145 | L61: =J61+I61+H61+G61+F61+E61 -> 0 | M61: =L61*D61 -> 0
D62: 0
A63: 6-2. Боді д/р котик плюшевий, БД18 | B63: плюш | D63: 0 | E63: сірий | F63: синій | G63: малиновий | L63: =L64+L65+L66+L67+L68 -> 0
C64: 20 | D64: 120 | L64: =J64+I64+H64+G64+F64+E64 -> 0 | M64: =L64*D64 -> 0
C65: 22 | D65: 120 | L65: =J65+I65+H65+G65+F65+E65 -> 0 | M65: =L65*D65 -> 0
C66: 24 | D66: 120 | L66: =J66+I66+H66+G66+F66+E66 -> 0 | M66: =L66*D66 -> 0
C67: 26 | D67: 145 | L67: =J67+I67+H67+G67+F67+E67 -> 0 | M67: =L67*D67 -> 0
C68: 28 | D68: 145 | M68: =L68*D68 -> 0
D69: 0
A70: 6-2. Боді д/р інтАкт базовий, БД24 | B70: інтерлок | D70: 0 | E70: різні | F70: білий | G70: чорний | H70: кавовий | I70: синій | J70: зелений | L70: =L71+L72+L73+L74+L75 -> 0
C71: 20 | D71: 107 | L71: =J71+I71+H71+G71+F71+E71 -> 0 | M71: =L71*D71 -> 0
C72: 22 | D72: 107 | L72: =J72+I72+H72+G72+F72+E72 -> 0 | M72: =L72*D72 -> 0
C73: 24 | D73: 107 | L73: =J73+I73+H73+G73+F73+E73 -> 0 | M73: =L73*D73 -> 0
C74: 26 | D74: 123 | L74: =J74+I74+H74+G74+F74+E74 -> 0 | M74: =L74*D74 -> 0
C75: 28 | D75: 123 | L75: =J75+I75+H75+G75+F75+E75 -> 0 | M75: =L75*D75 -> 0
D76: 0
A77: 7 Боді д/р спереду закл. , БД3 | B77: інтерлок | D77: 0 | E77: різні | F77: білий | G77: голуб. | H77: рож. | I77: жовтий | J77: салат. | K77: молочн | L77: =L78+L79 -> 0
C78: 18 | D78: 120 | L78: =J78+I78+H78+G78+F78+E78+K78 -> 0 | M78: =L78*D78 -> 0
C79: 20 | D79: 120 | L79: =J79+I79+H79+G79+F79+E79+K79 -> 0 | M79: =L79*D79 -> 0
A83: 8. Боді спереду закл.малюн,БД39,37 | B83: інтерлокП | D83: 0 | E83: різні | F83: дівч | G83: хлопч | L83: =L84+L85 -> 0
C84: 18 | D84: 110 | L84: =J84+I84+H84+G84+F84+E84+K84 -> 0 | M84: =L84*D84 -> 0
C85: 20 | D85: 110 | L85: =J85+I85+H85+G85+F85+E85+K85 -> 0 | M85: =L85*D85 -> 0
D86: 0
D87: 0
D88: 0
D89: 0
A90: 8. Боді ручки рібана начос, БД40 | B90: рібана | D90: 0 | E90: різні | F90: білий | G90: молочн | H90: рожев | I90: сірий | J90: беж | L90: =L91+L92 -> 0
B91: начос | C91: 18 | D91: 130 | L91: =J91+I91+H91+G91+F91+E91+K91 -> 0 | M91: =L91*D91 -> 0
C92: 20 | D92: 130 | L92: =J92+I92+H92+G92+F92+E92+K92 -> 0 | M92: =L92*D92 -> 0
D93: 0
D94: 0
D95: 0
A96: 8. Боді ручки рібана начос, БД38 | B96: рубчик | D96: 0 | E96: різні | F96: дівч | G96: хлопч | L96: =L97+L98 -> 0
C97: 18 | D97: 120 | L97: =J97+I97+H97+G97+F97+E97+K97 -> 0 | M97: =L97*D97 -> 0
C98: 20 | D98: 120 | L98: =J98+I98+H98+G98+F98+E98+K98 -> 0 | M98: =L98*D98 -> 0
A102: 8. Боді на запах рібана начос, БД44 | B102: рібана | D102: 0 | E102: різні | F102: голуб. | G102: рожев | L102: =L103+L104 -> 0
B103: начос | C103: 16 | D103: 125 | L103: =J103+I103+H103+G103+F103+E103+K103 -> 0 | M103: =L103*D103 -> 0
C104: 18 | D104: 125 | L104: =J104+I104+H104+G104+F104+E104+K104 -> 0 | M104: =L104*D104 -> 0
A109: 8. Боді ручки футер начос, БД41 | B109: футер | D109: 0 | E109: різні | F109: дівч | G109: хлопч | L109: =L110+L111 -> 0
B110: начос | C110: 18 | D110: 120 | L110: =J110+I110+H110+G110+F110+E110+K110 -> 0 | M110: =L110*D110 -> 0
C111: 20 | D111: 120 | L111: =J111+I111+H111+G111+F111+E111+K111 -> 0 | M111: =L111*D111 -> 0
D112: 0
D113: 0
D114: 0
D115: 0
...

Sheet Для дітей від 1 до 12 р.
A1: Бланк замовлення ( для дітей від 1 року) | G1: Оптові ціни є ОРІЄНТОВНИМИ
A2: Потрібно вказатикількістьнеобхідних виробів. Поля сірого кольору вказують, що виріб в даних кольорах чи розмірах не виробляється або відсутній.
A3: Контактні дані : ПІБ | J3: Всього замовлено на суму
A4: Номер телефону | J4: =M679 -> 0
A5: Місце доставки
A6: Найменування продукції | B6: тканина | C6: розмір | D6: ціна | E6: Кількість | L6: Всього | M6: Сума | N6: Примітка
A7: 1. Гольф дитячий інт., ГФ1 | B7: інтерлок | E7: різні | F7: білий | G7: голуб. | H7: рож. | I7: жовтий | J7: салат. | K7: молочн | L7: =L8+L9+L10+L11+L12+L13+L14 -> 0
C8: 24 | D8: 105 | L8: =E8+F8+G8+H8+I8+J8+K8 -> 0 | M8: =L8*D8 -> 0
C9: 26 | D9: 105 | L9: =E9+F9+G9+H9+I9+J9+K9 -> 0 | M9: =L9*D9 -> 0
C10: 28 | D10: 105 | L10: =E10+F10+G10+H10+I10+J10+K10 -> 0 | M10: =L10*D10 -> 0
C11: 30 | D11: 122 | L11: =E11+F11+G11+H11+I11+J11+K11 -> 0 | M11: =L11*D11 -> 0
C12: 32 | D12: 122 | L12: =E12+F12+G12+H12+I12+J12+K12 -> 0 | M12: =L12*D12 -> 0
C13: 34 | D13: 138 | L13: =E13+F13+G13+H13+I13+J13+K13 -> 0 | M13: =L13*D13 -> 0
C14: 36 | D14: 155 | L14: =E14+F14+G14+H14+I14+J14+K14 -> 0 | M14: =L14*D14 -> 0
A15: 1. Гольф дитячий Актінт., ГФ8 | B15: Актінт | D15: 0 | E15: різні | F15: дівч | G15: хлопч | H15: Т.Рож | I15: оранж | J15: синій | K15: Вишнев | L15: =L16+L17+L18+L19+L20+L21+#REF!+L22 -> #REF!
C16: 24 | D16: 105 | L16: =E16+F16+G16+H16+I16+J16+K16 -> 0 | M16: =L16*D16 -> 0
C17: 26 | D17: 105 | L17: =E17+F17+G17+H17+I17+J17+K17 -> 0 | M17: =L17*D17 -> 0
C18: 28 | D18: 105 | L18: =E18+F18+G18+H18+I18+J18+K18 -> 0 | M18: =L18*D18 -> 0
C19: 30 | D19: 122 | L19: =E19+F19+G19+H19+I19+J19+K19 -> 0 | M19: =L19*D19 -> 0
C20: 32 | D20: 122 | L20: =E20+F20+G20+H20+I20+J20+K20 -> 0 | M20: =L20*D20 -> 0
C21: 34 | D21: 138 | L21: =E21+F21+G21+H21+I21+J21+K21 -> 0 | M21: =L21*D21 -> 0
C22: 36 | D22: 155 | L22: =E22+F22+G22+H22+I22+J22+K22 -> 0 | M22: =L22*D22 -> 0
A23: 1. Гольф дівч.крошетка, ГФ2 | B23: інтерлок | D23: 0 | E23: різні | F23: білий | G23: рож. | H23: жовтий | L23: =L24+L25+L26+L27+L28+L29+#REF! -> #REF!
C24: 26 | D24: 111 | L24: =E24+F24+G24+H24+I24+J24+K24 -> 0 | M24: =L24*D24 -> 0
C25: 28 | D25: 111 | L25: =E25+F25+G25+H25+I25+J25+K25 -> 0 | M25: =L25*D25 -> 0
C26: 30 | D26: 128 | L26: =E26+F26+G26+H26+I26+J26+K26 -> 0 | M26: =L26*D26 -> 0
C27: 32 | D27: 128 | L27: =E27+F27+G27+H27+I27+J27+K27 -> 0 | M27: =L27*D27 -> 0
C28: 34 | D28: 144 | L28: =E28+F28+G28+H28+I28+J28+K28 -> 0 | M28: =L28*D28 -> 0
C29: 36 | D29: 161 | L29: =E29+F29+G29+H29+I29+J29+K29 -> 0 | M29: =L29*D29 -> 0
C30: 34 | D30: 138 | L30: =E30+F30+G30+H30+I30+J30+K30 -> 0 | M30: =L30*D30 -> 0
C31: 36 | D31: 155 | L31: =E31+F31+G31+H31+I31+J31+K31 -> 0 | M31: =L31*D31 -> 0
A32: 2. Гольф інт. з аплік | B32: інтерлок | D32: 0 | E32: хлопчик | L32: =L33+L34+L35+L36+L37+L38+#REF! -> #REF!
C33: 26 | D33: 165 | L33: =E33+F33+G33+H33+I33+J33+K33 -> 0 | M33: =L33*D33 -> 0
C34: 28 | D34: 165 | L34: =E34+F34+G34+H34+I34+J34+K34 -> 0 | M34: =L34*D34 -> 0
C35: 30 | D35: 182 | L35: =E35+F35+G35+H35+I35+J35+K35 -> 0 | M35: =L35*D35 -> 0
C36: 32 | D36: 182 | L36: =E36+F36+G36+H36+I36+J36+K36 -> 0 | M36: =L36*D36 -> 0
C37: 34 | D37: 198 | L37: =E37+F37+G37+H37+I37+J37+K37 -> 0 | M37: =L37*D37 -> 0
C38: 36 | D38: 215 | L38: =E38+F38+G38+H38+I38+J38+K38 -> 0 | M38: =L38*D38 -> 0
A39: 2. Гольф рібана, ГФ12 | B39: рібана | D39: 0 | E39: різні | F39: сірий | G39: білий | H39: голубий | I39: синій | J39: рожев | K39: гірчи | L39: =L40+L41+L42+L43+L44+L45+#REF!+L46 -> #REF!
C40: 26 | D40: 125 | L40: =E40+F40+G40+H40+I40+J40+K40 -> 0 | M40: =L40*D40 -> 0
C41: 28 | D41: 125 | L41: =E41+F41+G41+H41+I41+J41+K41 -> 0 | M41: =L41*D41 -> 0
C42: 30 | D42: 152 | L42: =E42+F42+G42+H42+I42+J42+K42 -> 0 | M42: =L42*D42 -> 0
C43: 32 | D43: 152 | L43: =E43+F43+G43+H43+I43+J43+K43 -> 0 | M43: =L43*D43 -> 0
C44: 34 | D44: 178 | L44: =E44+F44+G44+H44+I44+J44+K44 -> 0 | M44: =L44*D44 -> 0
C45: 36 | D45: 199 | L45: =E45+F45+G45+H45+I45+J45+K45 -> 0 | M45: =L45*D45 -> 0
C46: 38 | D46: 219 | L46: =E46+F46+G46+H46+I46+J46+K46 -> 0 | M46: =L46*D46 -> 0
A47: 3. Фуфайка д/р з 1 закл. ФД1 | B47: інтерлок | D47: 0 | E47: різні | F47: білий | G47: голуб. | H47: рож. | I47: жовтий | J47: салат. | K47: молочн | L47: =L48+L49+L50+L51+L53+L52+L54+L55+L65 -> 0
C48: 22 | D48: 90 | L48: =E48+F48+G48+H48+I48+J48+K48 -> 0 | M48: =L48*D48 -> 0
C49: 24 | D49: 90 | L49: =E49+F49+G49+H49+I49+J49+K49 -> 0 | M49: =L49*D49 -> 0
C50: 26 | D50: 98 | L50: =E50+F50+G50+H50+I50+J50+K50 -> 0 | M50: =L50*D50 -> 0
C51: 28 | D51: 98 | L51: =E51+F51+G51+H51+I51+J51+K51 -> 0 | M51: =L51*D51 -> 0
C52: 30 | D52: 115 | L52: =E52+F52+G52+H52+I52+J52+K52 -> 0 | M52: =L52*D52 -> 0
C53: 32 | D53: 115 | L53: =E53+F53+G53+H53+I53+J53+K53 -> 0 | M53: =L53*D53 -> 0
C54: 34 | D54: 131 | L54: =E54+F54+G54+H54+I54+J54+K54 -> 0 | M54: =L54*D54 -> 0
C55: 36 | D55: 148 | L55: =E55+F55+G55+H55+I55+J55+K55 -> 0 | M55: =L55*D55 -> 0
A56: 3. Фуфайка д/р з 1 закл. ФД7 | B56: акт.інтерлок | D56: 0 | E56: хлопч | F56: коричн | G56: бірюз | H56: джинс | I56: Т.синя | J56: чорний | K56: зелен
C57: 22 | D57: 90 | L57: =E57+F57+G57+H57+I57+J57+K57 -> 0 | M57: =L57*D57 -> 0
C58: 24 | D58: 90 | L58: =E58+F58+G58+H58+I58+J58+K58 -> 0 | M58: =L58*D58 -> 0
C59: 26 | D59: 98 | L59: =E59+F59+G59+H59+I59+J59+K59 -> 0 | M59: =L59*D59 -> 0
C60: 28 | D60: 98 | L60: =E60+F60+G60+H60+I60+J60+K60 -> 0 | M60: =L60*D60 -> 0
C61: 30 | D61: 115 | L61: =E61+F61+G61+H61+I61+J61+K61 -> 0 | M61: =L61*D61 -> 0
C62: 32 | D62: 115 | L62: =E62+F62+G62+H62+I62+J62+K62 -> 0 | M62: =L62*D62 -> 0
C63: 34 | D63: 131 | L63: =E63+F63+G63+H63+I63+J63+K63 -> 0 | M63: =L63*D63 -> 0
C64: 36 | D64: 148 | L64: =E64+F64+G64+H64+I64+J64+K64 -> 0 | M64: =L64*D64 -> 0
A65: 3. Фуфайка д/р з 1 закл. Інт ФД7 | B65: акт.інтерлок | D65: 0 | E65: дівч | F65: Вишнев | G65: малинов | H65: оранж | I65: Т.Рож | J65: Рож
C66: 22 | D66: 90 | L66: =E66+F66+G66+H66+I66+J66+K66 -> 0 | M66: =L66*D66 -> 0
C67: 24 | D67: 90 | L67: =E67+F67+G67+H67+I67+J67+K67 -> 0 | M67: =L67*D67 -> 0
C68: 26 | D68: 98 | L68: =E68+F68+G68+H68+I68+J68+K68 -> 0 | M68: =L68*D68 -> 0
C69: 28 | D69: 98 | L69: =E69+F69+G69+H69+I69+J69+K69 -> 0 | M69: =L69*D69 -> 0
C70: 30 | D70: 115 | L70: =E70+F70+G70+H70+I70+J70+K70 -> 0 | M70: =L70*D70 -> 0
C71: 32 | D71: 115 | L71: =E71+F71+G71+H71+I71+J71+K71 -> 0 | M71: =L71*D71 -> 0
C72: 34 | D72: 131 | L72: =E72+F72+G72+H72+I72+J72+K72 -> 0 | M72: =L72*D72 -> 0
C73: 36 | D73: 148 | L73: =E73+F73+G73+H73+I73+J73+K73 -> 0 | M73: =L73*D73 -> 0
A74: 3. Фуфайка д/р кулір ФД26 | B74: кулір | E74: різні | F74: чорний | G74: хакі | H74: молочн | I74: коричн | J74: зелений
C75: 24 | D75: 106 | L75: =E75+F75+G75+H75+I75+J75+K75 -> 0 | M75: =L75*D75 -> 0
C76: 26 | D76: 106 | L76: =E76+F76+G76+H76+I76+J76+K76 -> 0 | M76: =L76*D76 -> 0
C77: 28 | D77: 120 | L77: =E77+F77+G77+H77+I77+J77+K77 -> 0 | M77: =L77*D77 -> 0
C78: 30 | D78: 139 | L78: =E78+F78+G78+H78+I78+J78+K78 -> 0 | M78: =L78*D78 -> 0
C79: 32 | D79: 152 | L79: =E79+F79+G79+H79+I79+J79+K79 -> 0 | M79: =L79*D79 -> 0
C80: 34 | D80: 152 | L80: =E80+F80+G80+H80+I80+J80+K80 -> 0 | M80: =L80*D80 -> 0
C81: 36 | D81: 166 | L81: =E81+F81+G81+H81+I81+J81+K81 -> 0 | M81: =L81*D81 -> 0
C82: 38 | D82: 166 | L82: =E82+F82+G82+H82+I82+J82+K82 -> 0 | M82: =L82*D82 -> 0
A83: 4. Кофта патент малюнок, ФД13 | B83: двонитка | D83: 0 | E83: різні | F83: гриби | G83: серця | H83: однотон
C84: 26 | D84: 132 | L84: =E84+F84+G84+H84+I84+J84+K84 -> 0 | M84: =L84*D84 -> 0 | N84: -0.2
C85: 28 | D85: 132 | L85: =E85+F85+G85+H85+I85+J85+K85 -> 0 | M85: =L85*D85 -> 0 | N85: -0.2
C86: 30 | D86: 152 | L86: =E86+F86+G86+H86+I86+J86+K86 -> 0 | M86: =L86*D86 -> 0 | N86: -0.2
C87: 32 | D87: 152 | L87: =E87+F87+G87+H87+I87+J87+K87 -> 0 | M87: =L87*D87 -> 0 | N87: -0.2
C88: 34 | D88: 173 | L88: =E88+F88+G88+H88+I88+J88+K88 -> 0 | M88: =L88*D88 -> 0 | N88: -0.2
A89: гриби серця | C89: 36 | D89: 192 | L89: =E89+F89+G89+H89+I89+J89+K89 -> 0 | M89: =L89*D89 -> 0 | N89: -0.2
A90: 6-1. Майка дитяча кулір, МК1 | B90: кулір | D90: 0 | E90: білі | L90: =L91+L92+L93+L94+L96+L95+L97+L98+L99 -> 0
C91: 24 | D91: 49 | L91: =E91+F91+G91+H91+I91+J91+K91 -> 0 | M91: =L91*D91 -> 0
C92: 26 | D92: 49 | L92: =E92+F92+G92+H92+I92+J92+K92 -> 0 | M92: =L92*D92 -> 0
C93: 28 | D93: 49 | L93: =E93+F93+G93+H93+I93+J93+K93 -> 0 | M93: =L93*D93 -> 0
C94: 30 | D94: 58 | L94: =E94+F94+G94+H94+I94+J94+K94 -> 0 | M94: =L94*D94 -> 0
C95: 32 | D95: 58 | L95: =E95+F95+G95+H95+I95+J95+K95 -> 0 | M95: =L95*D95 -> 0
C96: 34 | D96: 65 | L96: =E96+F96+G96+H96+I96+J96+K96 -> 0 | M96: =L96*D96 -> 0
C97: 36 | D97: 74 | L97: =E97+F97+G97+H97+I97+J97+K97 -> 0 | M97: =L97*D97 -> 0
C98: 38 | D98: 74 | L98: =E98+F98+G98+H98+I98+J98+K98 -> 0 | M98: =L98*D98 -> 0
C99: 40 | D99: 87 | L99: =E99+F99+G99+H99+I99+J99+K99 -> 0 | M99: =L99*D99 -> 0
A100: 6-1. Майка дитяча КП, МК9 | B100: кулірП | D100: 0 | E100: різні | F100: хлопч. | G100: дівч. | L100: =L101+L102+L103+L104+L106+L105+L107+L108+L109 -> #REF!
...

Sheet Для дорослих
A1: Бланк замовлення (для дорослих) | G1: ЦІНИ ОРІЄНТОВНІ
A2: Потрібно вказати кількість необхідних виробів. Поля сірого кольору вказують, що виріб в даних кольорах чи розмірах не виробляється або відсутній.
A3: Контактні дані : ПІБ | J3: Всього замовлено на суму
A4: Номер телефону | J4: =L629 -> 0
A5: Місце доставки
A6: Найменування продукції | B6: тканина | C6: розмір | D6: ціна | E6: Кількість | K6: Всього | L6: Сума | M6: Примітка
A7: 1.Майка чоловіча МК1 | B7: кулір | E7: біла | K7: =K8+K9+K10+K11+K12+K13+K14+K15 -> 0
C8: 44 | D8: 110 | K8: =J8+I8+H8+G8+F8+E8 -> 0 | L8: =K8*D8 -> 0
C9: 46 | D9: 110 | K9: =J9+I9+H9+G9+F9+E9 -> 0 | L9: =K9*D9 -> 0
C10: 48 | D10: 110 | K10: =J10+I10+H10+G10+F10+E10 -> 0 | L10: =K10*D10 -> 0
C11: 50 | D11: 110 | K11: =J11+I11+H11+G11+F11+E11 -> 0 | L11: =K11*D11 -> 0
C12: 52 | D12: 125 | K12: =J12+I12+H12+G12+F12+E12 -> 0 | L12: =K12*D12 -> 0
C13: 54 | D13: 125 | K13: =J13+I13+H13+G13+F13+E13 -> 0 | L13: =K13*D13 -> 0
C14: 56 | D14: 140 | K14: =J14+I14+H14+G14+F14+E14 -> 0 | L14: =K14*D14 -> 0
C15: 60 | D15: 155 | K15: =J15+I15+H15+G15+F15+E15 -> 0 | L15: =K15*D15 -> 0
A16: 1. Майка чол. Кольорова МК4 | B16: акт.кулір | E16: різні | F16: чорна | G16: т.синя | H16: сіра | I16: хакі | K16: =K17+K18+K19+K20+K21+K22+K24 -> 0
C17: 44 | D17: 115 | K17: =J17+I17+H17+G17+F17+E17 -> 0 | L17: =K17*D17 -> 0
C18: 46 | D18: 115 | K18: =J18+I18+H18+G18+F18+E18 -> 0 | L18: =K18*D18 -> 0
C19: 48 | D19: 115 | K19: =J19+I19+H19+G19+F19+E19 -> 0 | L19: =K19*D19 -> 0
C20: 50 | D20: 115 | K20: =J20+I20+H20+G20+F20+E20 -> 0 | L20: =K20*D20 -> 0
C21: 52 | D21: 130 | K21: =J21+I21+H21+G21+F21+E21 -> 0 | L21: =K21*D21 -> 0
C22: 54 | D22: 130 | K22: =J22+I22+H22+G22+F22+E22 -> 0 | L22: =K22*D22 -> 0
C23: 56 | D23: 140 | K23: =J23+I23+H23+G23+F23+E23 -> 0 | L23: =K23*D23 -> 0
C24: 60 | D24: 155 | K24: =J24+I24+H24+G24+F24+E24 -> 0 | L24: =K24*D24 -> 0
A25: 2. Джемпер чол ДЖ1, ДЖ2 | B25: кулір | E25: білий | F25: чорний | K25: =K26+K27+K28+K29+K30+K31+K32 -> 0
C26: 44 | D26: 190 | K26: =J26+I26+H26+G26+F26+E26 -> 0 | L26: =K26*D26 -> 0
C27: 46 | D27: 190 | K27: =J27+I27+H27+G27+F27+E27 -> 0 | L27: =K27*D27 -> 0
C28: 48 | D28: 190 | K28: =J28+I28+H28+G28+F28+E28 -> 0 | L28: =K28*D28 -> 0
C29: 50 | D29: 190 | K29: =J29+I29+H29+G29+F29+E29 -> 0 | L29: =K29*D29 -> 0
C30: 52 | D30: 210 | K30: =J30+I30+H30+G30+F30+E30 -> 0 | L30: =K30*D30 -> 0
C31: 54 | D31: 210 | K31: =J31+I31+H31+G31+F31+E31 -> 0 | L31: =K31*D31 -> 0
C32: 56 | D32: 235 | K32: =J32+I32+H32+G32+F32+E32 -> 0
A33: 2. Джемпер чол однотон ДЖ4, ДЖ3 | B33: кулір | E33: різні | F33: хакі | G33: коричн | H33: зел | I33: синій | K33: =K34+K35+K36+K37+K38+K39+K40 -> 0
B34: стр.кулір | C34: 44 | D34: 190 | K34: =J34+I34+H34+G34+F34+E34 -> 0 | L34: =K34*D34 -> 0
C35: 46 | D35: 190 | K35: =J35+I35+H35+G35+F35+E35 -> 0 | L35: =K35*D35 -> 0
C36: 48 | D36: 190 | K36: =J36+I36+H36+G36+F36+E36 -> 0 | L36: =K36*D36 -> 0
C37: 50 | D37: 190 | K37: =J37+I37+H37+G37+F37+E37 -> 0 | L37: =K37*D37 -> 0
C38: 52 | D38: 210 | K38: =J38+I38+H38+G38+F38+E38 -> 0 | L38: =K38*D38 -> 0
C39: 54 | D39: 210 | K39: =J39+I39+H39+G39+F39+E39 -> 0 | L39: =K39*D39 -> 0
C40: 56 | D40: 235 | K40: =J40+I40+H40+G40+F40+E40 -> 0
A41: 2. Джемпер ч малюнок ДЖ4,ДЖ3 | B41: кулір | E41: різні | K41: =K42+K43+K44+K45+K46+K47+K48 -> 0
B42: стр.кулір | C42: 44 | D42: 190 | K42: =J42+I42+H42+G42+F42+E42 -> 0 | L42: =K42*D42 -> 0
C43: 46 | D43: 190 | K43: =J43+I43+H43+G43+F43+E43 -> 0 | L43: =K43*D43 -> 0
C44: 48 | D44: 190 | K44: =J44+I44+H44+G44+F44+E44 -> 0 | L44: =K44*D44 -> 0
C45: 50 | D45: 190 | K45: =J45+I45+H45+G45+F45+E45 -> 0 | L45: =K45*D45 -> 0
C46: 52 | D46: 210 | K46: =J46+I46+H46+G46+F46+E46 -> 0 | L46: =K46*D46 -> 0
C47: 54 | D47: 210 | K47: =J47+I47+H47+G47+F47+E47 -> 0 | L47: =K47*D47 -> 0
C48: 56 | D48: 235 | K48: =J48+I48+H48+G48+F48+E48 -> 0
A58: 3. Боксерки чол. Малюнок, БК2 | B58: стр.кулір | D58: 0 | K58: =K59+K60+K61+K62+K63+K64+K65+K66 -> 0
B59: кулір | C59: 44 | D59: 110 | K59: =J59+I59+H59+G59+F59+E59 -> 0 | L59: =K59*D59 -> 0
C60: 46 | D60: 110 | K60: =J60+I60+H60+G60+F60+E60 -> 0 | L60: =K60*D60 -> 0
C61: 48 | D61: 110 | K61: =J61+I61+H61+G61+F61+E61 -> 0 | L61: =K61*D61 -> 0
C62: 50 | D62: 110 | K62: =J62+I62+H62+G62+F62+E62 -> 0 | L62: =K62*D62 -> 0
C63: 52 | D63: 125 | K63: =J63+I63+H63+G63+F63+E63 -> 0 | L63: =K63*D63 -> 0
C64: 54 | D64: 125 | K64: =J64+I64+H64+G64+F64+E64 -> 0 | L64: =K64*D64 -> 0
C65: 56 | D65: 125 | K65: =J65+I65+H65+G65+F65+E65 -> 0 | L65: =K65*D65 -> 0
C66: 60 | D66: 140 | K66: =J66+I66+H66+G66+F66+E66 -> 0 | L66: =K66*D66 -> 0
A67: 3. Боксерки чол. Однотон, БК2 | B67: стр.кулір | E67: різні | F67: сірі | G67: червоні | H67: сині | I67: гірч | J67: меланж | K67: =K68+K69+K70+K71+K72+K73+K74+K75 -> 0
C68: 44 | D68: 110 | K68: =J68+I68+H68+G68+F68+E68 -> 0 | L68: =K68*D68 -> 0
C69: 46 | D69: 110 | K69: =J69+I69+H69+G69+F69+E69 -> 0 | L69: =K69*D69 -> 0
C70: 48 | D70: 110 | K70: =J70+I70+H70+G70+F70+E70 -> 0 | L70: =K70*D70 -> 0
C71: 50 | D71: 110 | K71: =J71+I71+H71+G71+F71+E71 -> 0 | L71: =K71*D71 -> 0
C72: 52 | D72: 125 | K72: =J72+I72+H72+G72+F72+E72 -> 0 | L72: =K72*D72 -> 0
C73: 54 | D73: 125 | K73: =J73+I73+H73+G73+F73+E73 -> 0 | L73: =K73*D73 -> 0
C74: 56 | D74: 125 | K74: =J74+I74+H74+G74+F74+E74 -> 0 | L74: =K74*D74 -> 0
C75: 60 | D75: 140 | K75: =J75+I75+H75+G75+F75+E75 -> 0 | L75: =K75*D75 -> 0
A76: 3. Боксерки чол. Спорт резинка БК5 | B76: стр.кулір | E76: різні | K76: =K77+K78+K79+K80+K81+K82+K83+K84 -> 0
C77: 44 | D77: 102 | K77: =J77+I77+H77+G77+F77+E77 -> 0 | L77: =K77*D77 -> 0
C78: 46 | D78: 102 | K78: =J78+I78+H78+G78+F78+E78 -> 0 | L78: =K78*D78 -> 0
C79: 48 | D79: 102 | K79: =J79+I79+H79+G79+F79+E79 -> 0 | L79: =K79*D79 -> 0
C80: 50 | D80: 102 | K80: =J80+I80+H80+G80+F80+E80 -> 0 | L80: =K80*D80 -> 0
C81: 52 | D81: 115 | K81: =J81+I81+H81+G81+F81+E81 -> 0 | L81: =K81*D81 -> 0
C82: 54 | D82: 115 | K82: =J82+I82+H82+G82+F82+E82 -> 0 | L82: =K82*D82 -> 0
C83: 56 | D83: 115 | K83: =J83+I83+H83+G83+F83+E83 -> 0 | L83: =K83*D83 -> 0
C84: 60 | D84: 130 | K84: =J84+I84+H84+G84+F84+E84 -> 0 | L84: =K84*D84 -> 0
A85: 3 Боксерки подовжені, БK4 | B85: кулір | D85: 0 | E85: клітинка | K85: =K86+K87+K88+K89+K90+K91+K92 -> 0
C86: 44 | D86: 125 | K86: =J86+I86+H86+G86+F86+E86 -> 0 | L86: =K86*D86 -> 0
C87: 46 | D87: 125 | K87: =J87+I87+H87+G87+F87+E87 -> 0 | L87: =K87*D87 -> 0
C88: 48 | D88: 125 | K88: =J88+I88+H88+G88+F88+E88 -> 0 | L88: =K88*D88 -> 0
C89: 50 | D89: 125 | K89: =J89+I89+H89+G89+F89+E89 -> 0 | L89: =K89*D89 -> 0
C90: 52 | D90: 146 | K90: =J90+I90+H90+G90+F90+E90 -> 0 | L90: =K90*D90 -> 0
C91: 54 | D91: 146 | K91: =J91+I91+H91+G91+F91+E91 -> 0 | L91: =K91*D91 -> 0
C92: 56 | D92: 166 | K92: =J92+I92+H92+G92+F92+E92 -> 0 | L92: =K92*D92 -> 0
A93: 3. Труси чоловічі плавки | B93: кулір | D93: 0 | E93: різні | F93: темні | G93: світлі | K93: =K94+K95+K96+K97+K98+K99+K100 -> 0
C94: 44 | D94: 72 | K94: =J94+I94+H94+G94+F94+E94 -> 0 | L94: =K94*D94 -> 0
C95: 46 | D95: 72 | K95: =J95+I95+H95+G95+F95+E95 -> 0 | L95: =K95*D95 -> 0
C96: 48 | D96: 72 | K96: =J96+I96+H96+G96+F96+E96 -> 0 | L96: =K96*D96 -> 0
C97: 50 | D97: 72 | K97: =J97+I97+H97+G97+F97+E97 -> 0 | L97: =K97*D97 -> 0
C98: 52 | D98: 86 | K98: =J98+I98+H98+G98+F98+E98 -> 0 | L98: =K98*D98 -> 0
C99: 54 | D99: 86 | K99: =J99+I99+H99+G99+F99+E99 -> 0 | L99: =K99*D99 -> 0
C100: 56 | D100: 99 | K100: =J100+I100+H100+G100+F100+E100 -> 0 | L100: =K100*D100 -> 0
A101: 4.Білизна чол бавовна 100 % | B101: інтерлок | D101: 0 | E101: різні | F101: чорна | G101: сіра | H101: Тсиня | K101: =K102+K103+K104+K105+K106+#REF! -> #REF!
C102: 46 | D102: 460 | K102: =J102+I102+H102+G102+F102+E102 -> 0 | L102: =K102*D102 -> 0
C103: 48 | D103: 515 | K103: =J103+I103+H103+G103+F103+E103 -> 0 | L103: =K103*D103 -> 0
C104: 50 | D104: 515 | K104: =J104+I104+H104+G104+F104+E104 -> 0 | L104: =K104*D104 -> 0
C105: 52 | D105: 545 | K105: =J105+I105+H105+G105+F105+E105 -> 0 | L105: =K105*D105 -> 0
C106: 54 | D106: 545 | K106: =J106+I106+H106+G106+F106+E106 -> 0 | L106: =K106*D106 -> 0
A107: 4. Термобілизна 320г/м2 - 75бав,14ПЕ,6Ел | B107: дайвінг | D107: 0 | E107: чорна | K107: =K108+K109+K110+K111+K112+#REF! -> #REF!
C108: 46 | D108: 720 | K108: =J108+I108+H108+G108+F108+E108 -> 0 | L108: =K108*D108 -> 0
C109: 48 | D109: 770 | K109: =J109+I109+H109+G109+F109+E109 -> 0 | L109: =K109*D109 -> 0
...

Sheet Вишиванки
A1: Бланк замовлення ( ВИШИВАНКИ)
A2: Потрібно вказатикількістьнеобхідних виробів. Поля сірого кольору вказують, що виріб в даних кольорах чи розмірах не виробляється або відсутній.
A3: Контактні дані : ПІБ | J3: Всього замовлено на суму
A4: Номер телефону | J4: =L170 -> 0
A5: Місце доставки
A6: Товари з категорії Вишиванки та Хрестильний одяг можна обирати через кошик на сайті. Якщо замовлення відповідатиме критеріям для опту (сума та однотипний товар)- ми його перерахуємо на оптові ціни
A7: Найменування продукції | B7: тканина | C7: розмір | D7: ціна | E7: Кількість | K7: Всього | L7: Сума | M7: Примітка
A8: 1. Вишиванка довг.рук ВД1 | B8: інтерлок | E8: дівч. | F8: хлопч. | G8: дівч. Черв. | H8: дівч. Голуб | I8: хлопч Синя | J8: хлопч Черв.
C9: 24 | D9: 150 | K9: =E9+F9+G9+H9+I9+J9 -> 0 | L9: =K9*D9 -> 0
C10: 26 | D10: 150 | K10: =E10+F10+G10+H10+I10+J10 -> 0 | L10: =K10*D10 -> 0
C11: 28 | D11: 150 | K11: =E11+F11+G11+H11+I11+J11 -> 0 | L11: =K11*D11 -> 0
C12: 30 | D12: 165 | K12: =E12+F12+G12+H12+I12+J12 -> 0 | L12: =K12*D12 -> 0
C13: 32 | D13: 165 | K13: =E13+F13+G13+H13+I13+J13 -> 0 | L13: =K13*D13 -> 0
C14: 34 | D14: 175 | K14: =E14+F14+G14+H14+I14+J14 -> 0 | L14: =K14*D14 -> 0
C15: 36 | D15: 190 | K15: =E15+F15+G15+H15+I15+J15 -> 0 | L15: =K15*D15 -> 0
A16: 2. Вишиванка коротк.рук ВД2 | B16: інтерлок | D16: 0 | E16: дівч. | F16: хлопч. | G16: дівч. Черв. | H16: дівч. Голуб | I16: хлопч Синя | J16: хлопч Черв.
C17: 24 | D17: 142 | K17: =E17+F17+G17+H17+I17+J17 -> 0 | L17: =K17*D17 -> 0
C18: 26 | D18: 142 | K18: =E18+F18+G18+H18+I18+J18 -> 0 | L18: =K18*D18 -> 0
C19: 28 | D19: 142 | K19: =E19+F19+G19+H19+I19+J19 -> 0 | L19: =K19*D19 -> 0
C20: 30 | D20: 157 | K20: =E20+F20+G20+H20+I20+J20 -> 0 | L20: =K20*D20 -> 0
C21: 32 | D21: 157 | K21: =E21+F21+G21+H21+I21+J21 -> 0 | L21: =K21*D21 -> 0
C22: 34 | D22: 167 | K22: =E22+F22+G22+H22+I22+J22 -> 0 | L22: =K22*D22 -> 0
C23: 36 | D23: 182 | K23: =E23+F23+G23+H23+I23+J23 -> 0 | L23: =K23*D23 -> 0
A24: 4.Вишиванка дівч.3/4р. ВД4 | B24: стр.кулір | D24: 0 | E24: оранж | F24: червона | G24: синя | H24: біла
C25: 28 | D25: 212 | K25: =E25+F25+G25+H25+I25+J25 -> 0 | L25: =K25*D25 -> 0
C26: 30 | D26: 231 | K26: =E26+F26+G26+H26+I26+J26 -> 0 | L26: =K26*D26 -> 0
C27: 32 | D27: 231 | K27: =E27+F27+G27+H27+I27+J27 -> 0 | L27: =K27*D27 -> 0
C28: 34 | D28: 252 | K28: =E28+F28+G28+H28+I28+J28 -> 0 | L28: =K28*D28 -> 0
C29: 36 | D29: 265 | K29: =E29+F29+G29+H29+I29+J29 -> 0 | L29: =K29*D29 -> 0
C30: 38 | D30: 265 | K30: =E30+F30+G30+H30+I30+J30 -> 0 | L30: =K30*D30 -> 0
C31: 40 | D31: 291
A32: 5-1.Вишиванка хлопч. к/р стійка | B32: стрейч кулір | D32: 0 | E32: чорна | F32: синя | G32: біла | H32: сіра
C33: 30 | D33: 199 | K33: =E33+F33+G33+H33+I33+J33 -> 0 | L33: =K33*D33 -> 0
C34: 32 | D34: 199 | K34: =E34+F34+G34+H34+I34+J34 -> 0 | L34: =K34*D34 -> 0
C35: 34 | D35: 219 | K35: =E35+F35+G35+H35+I35+J35 -> 0 | L35: =K35*D35 -> 0
C36: 36 | D36: 238 | K36: =E36+F36+G36+H36+I36+J36 -> 0 | L36: =K36*D36 -> 0
C37: 38 | D37: 238 | K37: =E37+F37+G37+H37+I37+J37 -> 0 | L37: =K37*D37 -> 0
C38: 40 | D38: 265 | K38: =E38+F38+G38+H38+I38+J38 -> 0 | L38: =K38*D38 -> 0
A39: 5-2.Вишиванка хлопч. д/р стійка | B39: стр.кулір | D39: 0 | E39: синя | F39: сіра
C40: 28 | D40: 185 | K40: =E40+F40+G40+H40+I40+J40 -> 0 | L40: =K40*D40 -> 0
C41: 30 | D41: 212 | K41: =E41+F41+G41+H41+I41+J41 -> 0 | L41: =K41*D41 -> 0
C42: 32 | D42: 212 | K42: =E42+F42+G42+H42+I42+J42 -> 0 | L42: =K42*D42 -> 0
C43: 34 | D43: 238 | K43: =E43+F43+G43+H43+I43+J43 -> 0 | L43: =K43*D43 -> 0
C44: 36 | D44: 265 | K44: =E44+F44+G44+H44+I44+J44 -> 0 | L44: =K44*D44 -> 0
C45: 38 | D45: 265 | K45: =E45+F45+G45+H45+I45+J45 -> 0 | L45: =K45*D45 -> 0
C46: 40 | D46: 291 | K46: =E46+F46+G46+H46+I46+J46 -> 0 | L46: =K46*D46 -> 0
A47: 6. Футболка вишитий Тризуб | B47: різні | D47: 0 | E47: біла | F47: синя | G47: жовта
C48: 26 | D48: 141 | K48: =E48+F48+G48+H48+I48+J48 -> 0 | L48: =K48*D48 -> 0
C49: 28 | D49: 141 | K49: =E49+F49+G49+H49+I49+J49 -> 0 | L49: =K49*D49 -> 0
C50: 30 | D50: 151 | K50: =E50+F50+G50+H50+I50+J50 -> 0 | L50: =K50*D50 -> 0
C51: 32 | D51: 151 | K51: =E51+F51+G51+H51+I51+J51 -> 0 | L51: =K51*D51 -> 0
C52: 34 | D52: 159 | K52: =E52+F52+G52+H52+I52+J52 -> 0 | L52: =K52*D52 -> 0
C53: 36 | D53: 170 | K53: =E53+F53+G53+H53+I53+J53 -> 0 | L53: =K53*D53 -> 0
C54: 38 | D54: 170 | K54: =E54+F54+G54+H54+I54+J54 -> 0 | L54: =K54*D54 -> 0
C55: 40 | D55: 184 | K55: =E55+F55+G55+H55+I55+J55 -> 0 | L55: =K55*D55 -> 0
A56: 8-1.Костюм для хрестин КД1, КД2 | B56: інтерлок | D56: 0 | E56: хлопч. | F56: дівч.
C57: 18 | D57: 240 | K57: =J57+I57+H57+G57+F57+E57 -> 0 | L57: =K57*D57 -> 0
C58: 20 | D58: 240 | K58: =J58+I58+H58+G58+F58+E58 -> 0 | L58: =K58*D58 -> 0
C59: 22 | D59: 260 | K59: =J59+I59+H59+G59+F59+E59 -> 0 | L59: =K59*D59 -> 0
A63: 8-2.Костюм святковий КД3, КД4 | B63: інтерлок | D63: 0 | E63: син. | F63: бірюз | G63: голуб | H63: квіти
C64: 18 | D64: 310 | K64: =J64+I64+H64+G64+F64+E64 -> 0 | L64: =K64*D64 -> 0
C65: 20 | D65: 310 | K65: =J65+I65+H65+G65+F65+E65 -> 0 | L65: =K65*D65 -> 0
C66: 22 | D66: 330 | K66: =J66+I66+H66+G66+F66+E66 -> 0 | L66: =K66*D66 -> 0
C67: 24 | D67: 350 | K67: =J67+I67+H67+G67+F67+E67 -> 0 | L67: =K67*D67 -> 0
C68: 26 | D68: 370 | K68: =J68+I68+H68+G68+F68+E68 -> 0 | L68: =K68*D68 -> 0
A69: 8-2.Костюм кольор.штани КД3, КД4 | B69: інтерлок | D69: 0 | E69: сині штани | F69: черв. лосін
C70: 20 | D70: 310 | K70: =J70+I70+H70+G70+F70+E70 -> 0 | L70: =K70*D70 -> 0
C71: 22 | D71: 330 | K71: =J71+I71+H71+G71+F71+E71 -> 0 | L71: =K71*D71 -> 0
C72: 24 | D72: 350 | K72: =J72+I72+H72+G72+F72+E72 -> 0 | L72: =K72*D72 -> 0
C73: 26 | D73: 370 | K73: =J73+I73+H73+G73+F73+E73 -> 0 | L73: =K73*D73 -> 0
A74: 61 Маленька пташка з пов'язкою | B74: інтерлок | D74: 0 | E74: червона | F74: голуба
C75: 20 | D75: 235 | K75: =J75+I75+H75+G75+F75+E75 -> 0 | L75: =K75*D75 -> 0
C76: 22 | D76: 250 | K76: =J76+I76+H76+G76+F76+E76 -> 0 | L76: =K76*D76 -> 0
C77: 24 | D77: 265 | K77: =J77+I77+H77+G77+F77+E77 -> 0 | L77: =K77*D77 -> 0
C78: 26 | D78: 280 | K78: =J78+I78+H78+G78+F78+E78 -> 0 | L78: =K78*D78 -> 0
A79: 61 Вишите плаття к\р з пов'язкою | B79: інтерлок | D79: 0 | E79: голуба
C80: 20 | D80: 225 | K80: =J80+I80+H80+G80+F80+E80 -> 0 | L80: =K80*D80 -> 0
C81: 22 | D81: 240 | K81: =J81+I81+H81+G81+F81+E81 -> 0 | L81: =K81*D81 -> 0
C82: 24 | D82: 255 | K82: =J82+I82+H82+G82+F82+E82 -> 0 | L82: =K82*D82 -> 0
C83: 26 | D83: 270 | K83: =J83+I83+H83+G83+F83+E83 -> 0 | L83: =K83*D83 -> 0
A84: 9. Боді-вишиванка на довг.рукав БД12 | B84: інтерлок | D84: 0 | E84: дівч. | F84: хлопч.
C85: 20 | D85: 135 | K85: =J85+I85+H85+G85+F85+E85 -> 0 | L85: =K85*D85 -> 0
C86: 22 | D86: 135 | K86: =J86+I86+H86+G86+F86+E86 -> 0 | L86: =K86*D86 -> 0
C87: 24 | D87: 135 | K87: =J87+I87+H87+G87+F87+E87 -> 0 | L87: =K87*D87 -> 0
C88: 26 | D88: 150 | K88: =J88+I88+H88+G88+F88+E88 -> 0 | L88: =K88*D88 -> 0
C89: 28 | D89: 150 | K89: =J89+I89+H89+G89+F89+E89 -> 0 | L89: =K89*D89 -> 0
A90: 9. Боді-вишиванка д/р комірчик БД35 | B90: інтерлок | D90: 0 | E90: Чхлопч. | F90: Схлопч
C91: 20 | D91: 160 | K91: =J91+I91+H91+G91+F91+E91 -> 0 | L91: =K91*D91 -> 0
C92: 22 | D92: 160 | K92: =J92+I92+H92+G92+F92+E92 -> 0 | L92: =K92*D92 -> 0
C93: 24 | D93: 160 | K93: =J93+I93+H93+G93+F93+E93 -> 0 | L93: =K93*D93 -> 0
C94: 26 | D94: 180 | K94: =J94+I94+H94+G94+F94+E94 -> 0 | L94: =K94*D94 -> 0
C95: 28 | D95: 180 | K95: =J95+I95+H95+G95+F95+E95 -> 0 | L95: =K95*D95 -> 0
A96: Боді-вишиванка на к/р БД13 | B96: інтерлок | D96: 0 | E96: дівч. | F96: хлопч.
C97: 20 | D97: 130 | K97: =J97+I97+H97+G97+F97+E97 -> 0 | L97: =K97*D97 -> 0
C98: 22 | D98: 130 | K98: =J98+I98+H98+G98+F98+E98 -> 0 | L98: =K98*D98 -> 0
C99: 24 | D99: 130 | K99: =J99+I99+H99+G99+F99+E99 -> 0 | L99: =K99*D99 -> 0
C100: 26 | D100: 145 | K100: =J100+I100+H100+G100+F100+E100 -> 0 | L100: =K100*D100 -> 0
C101: 28 | D101: 145 | K101: =J101+I101+H101+G101+F101+E101 -> 0 | L101: =K101*D101 -> 0
A102: Боді-вишиванка комір к/р БД56 | B102: інтерлок | D102: 0 | E102: дівч. | F102: хлопч.
C103: 20 | D103: 150 | K103: =J103+I103+H103+G103+F103+E103 -> 0 | L103: =K103*D103 -> 0
...
